BEGIN:VCALENDAR
VERSION:2.0
PRODID:-//SORA SCHOOL - ECPv6.15.1.1//NONSGML v1.0//EN
CALSCALE:GREGORIAN
METHOD:PUBLISH
X-WR-CALNAME:SORA SCHOOL
X-ORIGINAL-URL:https://sorasudung.in
X-WR-CALDESC:Events for SORA SCHOOL
REFRESH-INTERVAL;VALUE=DURATION:PT1H
X-Robots-Tag:noindex
X-PUBLISHED-TTL:PT1H
BEGIN:VTIMEZONE
TZID:Asia/Kolkata
BEGIN:STANDARD
TZOFFSETFROM:+0530
TZOFFSETTO:+0530
TZNAME:IST
DTSTART:20260101T000000
END:STANDARD
END:VTIMEZONE
BEGIN:VEVENT
DTSTART;TZID=Asia/Kolkata:20260713T000000
DTEND;TZID=Asia/Kolkata:20260713T235959
DTSTAMP:20260425T055632
CREATED:20260108T052325Z
LAST-MODIFIED:20260108T052332Z
UID:10000098-1783900800-1783987199@sorasudung.in
SUMMARY:BHANU JAYANTI
DESCRIPTION:
URL:https://sorasudung.in/event/bhanu-jayanti/
END:VEVENT
BEGIN:VEVENT
DTSTART;TZID=Asia/Kolkata:20260630T000000
DTEND;TZID=Asia/Kolkata:20260711T235959
DTSTAMP:20260425T055632
CREATED:20260112T034859Z
LAST-MODIFIED:20260112T034900Z
UID:10000149-1782777600-1783814399@sorasudung.in
SUMMARY:Summer Vacation
DESCRIPTION:
URL:https://sorasudung.in/event/summer-vacation-2/
END:VEVENT
BEGIN:VEVENT
DTSTART;TZID=Asia/Kolkata:20260629T000000
DTEND;TZID=Asia/Kolkata:20260629T235959
DTSTAMP:20260425T055632
CREATED:20260112T034633Z
LAST-MODIFIED:20260112T034634Z
UID:10000148-1782691200-1782777599@sorasudung.in
SUMMARY:Half-Yearly Result Day- PTA Meeting Dayscholars
DESCRIPTION:
URL:https://sorasudung.in/event/half-yearly-result-day-pta-meeting-dayscholars/
END:VEVENT
BEGIN:VEVENT
DTSTART;TZID=Asia/Kolkata:20260628T000000
DTEND;TZID=Asia/Kolkata:20260628T235959
DTSTAMP:20260425T055632
CREATED:20260112T034445Z
LAST-MODIFIED:20260112T034446Z
UID:10000147-1782604800-1782691199@sorasudung.in
SUMMARY:Half -Yearly Result Day-PTA Meeting - Hostellers
DESCRIPTION:
URL:https://sorasudung.in/event/half-yearly-result-day-pta-meeting-hostellers/
END:VEVENT
BEGIN:VEVENT
DTSTART;TZID=Asia/Kolkata:20260617T000000
DTEND;TZID=Asia/Kolkata:20260625T235959
DTSTAMP:20260425T055632
CREATED:20260112T033739Z
LAST-MODIFIED:20260112T033741Z
UID:10000145-1781654400-1782431999@sorasudung.in
SUMMARY:Half Yearly Exams/ SA-01
DESCRIPTION:
URL:https://sorasudung.in/event/half-yearly-exams-sa-01/
END:VEVENT
BEGIN:VEVENT
DTSTART;TZID=Asia/Kolkata:20260615T000000
DTEND;TZID=Asia/Kolkata:20260615T235959
DTSTAMP:20260425T055632
CREATED:20260112T034215Z
LAST-MODIFIED:20260112T034216Z
UID:10000146-1781481600-1781567999@sorasudung.in
SUMMARY:School Founder's Day-HE Palyul Lhatrul Rinpoche's Birthday
DESCRIPTION:
URL:https://sorasudung.in/event/school-founders-day-he-palyul-lhatrul-rinpoches-birthday/
END:VEVENT
BEGIN:VEVENT
DTSTART;TZID=Asia/Kolkata:20260606T000000
DTEND;TZID=Asia/Kolkata:20260606T235959
DTSTAMP:20260425T055632
CREATED:20260112T033507Z
LAST-MODIFIED:20260112T033509Z
UID:10000144-1780704000-1780790399@sorasudung.in
SUMMARY:Sit & Draw Competition Classes I- VIII
DESCRIPTION:
URL:https://sorasudung.in/event/sit-draw-competition-classes-i-viii-2/
END:VEVENT
BEGIN:VEVENT
DTSTART;TZID=Asia/Kolkata:20260531T000000
DTEND;TZID=Asia/Kolkata:20260531T235959
DTSTAMP:20260425T055632
CREATED:20260108T052043Z
LAST-MODIFIED:20260108T052159Z
UID:10000097-1780185600-1780271999@sorasudung.in
SUMMARY:SAGA DAWA
DESCRIPTION:
URL:https://sorasudung.in/event/saga-dawa-2/
END:VEVENT
BEGIN:VEVENT
DTSTART;TZID=Asia/Kolkata:20260530T000000
DTEND;TZID=Asia/Kolkata:20260530T235959
DTSTAMP:20260425T055632
CREATED:20260112T033254Z
LAST-MODIFIED:20260112T033255Z
UID:10000143-1780099200-1780185599@sorasudung.in
SUMMARY:Inter-Class Rhymes/ Singing Competition- Group/ Solo
DESCRIPTION:
URL:https://sorasudung.in/event/inter-class-rhymes-singing-competition-group-solo/
END:VEVENT
BEGIN:VEVENT
DTSTART;TZID=Asia/Kolkata:20260523T000000
DTEND;TZID=Asia/Kolkata:20260523T235959
DTSTAMP:20260425T055632
CREATED:20260112T033030Z
LAST-MODIFIED:20260112T033031Z
UID:10000142-1779494400-1779580799@sorasudung.in
SUMMARY:Extempore/ Speech Competition class I-VIII
DESCRIPTION:
URL:https://sorasudung.in/event/extempore-speech-competition-class-i-viii/
END:VEVENT
BEGIN:VEVENT
DTSTART;TZID=Asia/Kolkata:20260516T000000
DTEND;TZID=Asia/Kolkata:20260516T235959
DTSTAMP:20260425T055632
CREATED:20260108T051430Z
LAST-MODIFIED:20260108T051750Z
UID:10000096-1778889600-1778975999@sorasudung.in
SUMMARY:STATE DAY
DESCRIPTION:
URL:https://sorasudung.in/event/state-day-2/
END:VEVENT
BEGIN:VEVENT
DTSTART;TZID=Asia/Kolkata:20260504T000000
DTEND;TZID=Asia/Kolkata:20260512T235959
DTSTAMP:20260425T055632
CREATED:20260112T032818Z
LAST-MODIFIED:20260112T032819Z
UID:10000141-1777852800-1778630399@sorasudung.in
SUMMARY:MONTHLY TEST/FA-02
DESCRIPTION:
URL:https://sorasudung.in/event/monthly-test-fa-02/
END:VEVENT
BEGIN:VEVENT
DTSTART;TZID=Asia/Kolkata:20260502T000000
DTEND;TZID=Asia/Kolkata:20260502T235959
DTSTAMP:20260425T055632
CREATED:20260112T032334Z
LAST-MODIFIED:20260112T032335Z
UID:10000140-1777680000-1777766399@sorasudung.in
SUMMARY:Paragraph & Essay Writing Competition Class I-VIII
DESCRIPTION:
URL:https://sorasudung.in/event/paragraph-essay-writing-competition-class-i-viii/
END:VEVENT
BEGIN:VEVENT
DTSTART;TZID=Asia/Kolkata:20260501T000000
DTEND;TZID=Asia/Kolkata:20260501T235959
DTSTAMP:20260425T055632
CREATED:20260108T051159Z
LAST-MODIFIED:20260108T051205Z
UID:10000095-1777593600-1777679999@sorasudung.in
SUMMARY:SHYADAR PIDAR
DESCRIPTION:
URL:https://sorasudung.in/event/shyadar-pidar-2/
END:VEVENT
BEGIN:VEVENT
DTSTART;TZID=Asia/Kolkata:20260425T000000
DTEND;TZID=Asia/Kolkata:20260425T235959
DTSTAMP:20260425T055632
CREATED:20260111T064114Z
LAST-MODIFIED:20260111T064116Z
UID:10000139-1777075200-1777161599@sorasudung.in
SUMMARY:INTER-HOUSE DEBATE COMPETITION (ENGLISH)
DESCRIPTION:
URL:https://sorasudung.in/event/inter-house-debate-competition-english-2/
END:VEVENT
BEGIN:VEVENT
DTSTART;TZID=Asia/Kolkata:20260418T000000
DTEND;TZID=Asia/Kolkata:20260418T235959
DTSTAMP:20260425T055632
CREATED:20260111T063924Z
LAST-MODIFIED:20260111T063926Z
UID:10000138-1776470400-1776556799@sorasudung.in
SUMMARY:INTER-HOUSE DEBATE COMPETITION(NEPALI)
DESCRIPTION:
URL:https://sorasudung.in/event/inter-house-debate-competitionnepali/
END:VEVENT
BEGIN:VEVENT
DTSTART;TZID=Asia/Kolkata:20260414T000000
DTEND;TZID=Asia/Kolkata:20260414T235959
DTSTAMP:20260425T055632
CREATED:20260108T051019Z
LAST-MODIFIED:20260108T051313Z
UID:10000094-1776124800-1776211199@sorasudung.in
SUMMARY:DR.B.R. AMBEDKAR JAYANTI
DESCRIPTION:
URL:https://sorasudung.in/event/dr-b-r-ambedkar-jayanti/
END:VEVENT
BEGIN:VEVENT
DTSTART;TZID=Asia/Kolkata:20260411T000000
DTEND;TZID=Asia/Kolkata:20260411T235959
DTSTAMP:20260425T055632
CREATED:20260111T063723Z
LAST-MODIFIED:20260111T063724Z
UID:10000137-1775865600-1775951999@sorasudung.in
SUMMARY:STORY TELLING COMPETITION-CLASS I-VIII
DESCRIPTION:
URL:https://sorasudung.in/event/story-telling-competition-class-i-viii-2/
END:VEVENT
BEGIN:VEVENT
DTSTART;TZID=Asia/Kolkata:20260404T000000
DTEND;TZID=Asia/Kolkata:20260404T235959
DTSTAMP:20260425T055632
CREATED:20260111T063511Z
LAST-MODIFIED:20260111T063512Z
UID:10000136-1775260800-1775347199@sorasudung.in
SUMMARY:SPELL-BEE CONTEST
DESCRIPTION:
URL:https://sorasudung.in/event/spell-bee-contest-2/
END:VEVENT
BEGIN:VEVENT
DTSTART;TZID=Asia/Kolkata:20260403T000000
DTEND;TZID=Asia/Kolkata:20260403T235959
DTSTAMP:20260425T055632
CREATED:20260108T050707Z
LAST-MODIFIED:20260108T050749Z
UID:10000093-1775174400-1775260799@sorasudung.in
SUMMARY:GOOD FRIDAY
DESCRIPTION:
URL:https://sorasudung.in/event/good-friday-2/
END:VEVENT
BEGIN:VEVENT
DTSTART;TZID=Asia/Kolkata:20260328T000000
DTEND;TZID=Asia/Kolkata:20260328T235959
DTSTAMP:20260425T055632
CREATED:20260111T062239Z
LAST-MODIFIED:20260111T062240Z
UID:10000135-1774656000-1774742399@sorasudung.in
SUMMARY:ELOCUTION COMPETITION-CLASSES I-VIII
DESCRIPTION:
URL:https://sorasudung.in/event/elocution-competition-classes-i-viii-2/
END:VEVENT
BEGIN:VEVENT
DTSTART;TZID=Asia/Kolkata:20260327T000000
DTEND;TZID=Asia/Kolkata:20260327T235959
DTSTAMP:20260425T055632
CREATED:20260108T050146Z
LAST-MODIFIED:20260108T050153Z
UID:10000092-1774569600-1774655999@sorasudung.in
SUMMARY:RAMNAVAMI (CHAITE DASAIN)
DESCRIPTION:
URL:https://sorasudung.in/event/ramnavami-chaite-dasain/
END:VEVENT
BEGIN:VEVENT
DTSTART;TZID=Asia/Kolkata:20260321T000000
DTEND;TZID=Asia/Kolkata:20260321T235959
DTSTAMP:20260425T055632
CREATED:20260108T045728Z
LAST-MODIFIED:20260108T045742Z
UID:10000091-1774051200-1774137599@sorasudung.in
SUMMARY:Id-Ul-Fitre
DESCRIPTION:
URL:https://sorasudung.in/event/id-ul-fitre/
END:VEVENT
BEGIN:VEVENT
DTSTART;TZID=Asia/Kolkata:20260316T080000
DTEND;TZID=Asia/Kolkata:20260325T170000
DTSTAMP:20260425T055632
CREATED:20260111T062007Z
LAST-MODIFIED:20260111T062008Z
UID:10000134-1773648000-1774458000@sorasudung.in
SUMMARY:MONTHLY TEST/FA-01
DESCRIPTION:
URL:https://sorasudung.in/event/monthly-test-fa-01/
END:VEVENT
BEGIN:VEVENT
DTSTART;TZID=Asia/Kolkata:20260314T000000
DTEND;TZID=Asia/Kolkata:20260314T235959
DTSTAMP:20260425T055632
CREATED:20260111T061751Z
LAST-MODIFIED:20260111T061752Z
UID:10000133-1773446400-1773532799@sorasudung.in
SUMMARY:ANNUAL SCHOOL GAMES & SPORTS' DAY
DESCRIPTION:
URL:https://sorasudung.in/event/annual-school-games-sports-day/
END:VEVENT
BEGIN:VEVENT
DTSTART;TZID=Asia/Kolkata:20260307T000000
DTEND;TZID=Asia/Kolkata:20260307T235959
DTSTAMP:20260425T055632
CREATED:20260111T061507Z
LAST-MODIFIED:20260111T061508Z
UID:10000132-1772841600-1772927999@sorasudung.in
SUMMARY:HANDWRITING COMPETITION
DESCRIPTION:
URL:https://sorasudung.in/event/handwriting-competition-2/
END:VEVENT
BEGIN:VEVENT
DTSTART;TZID=Asia/Kolkata:20260303T000000
DTEND;TZID=Asia/Kolkata:20260303T235959
DTSTAMP:20260425T055632
CREATED:20260108T045435Z
LAST-MODIFIED:20260108T045442Z
UID:10000090-1772496000-1772582399@sorasudung.in
SUMMARY:BHUMCHU & HOLI
DESCRIPTION:
URL:https://sorasudung.in/event/bhumchu-holi-2/
END:VEVENT
BEGIN:VEVENT
DTSTART;TZID=Asia/Kolkata:20260228T000000
DTEND;TZID=Asia/Kolkata:20260228T235959
DTSTAMP:20260425T055632
CREATED:20260111T061222Z
LAST-MODIFIED:20260111T061224Z
UID:10000131-1772236800-1772323199@sorasudung.in
SUMMARY:INVESTITURE CEREMONY OF CAPTAINS & OTHER IN-CHARGES
DESCRIPTION:
URL:https://sorasudung.in/event/investiture-ceremony-of-captains-other-in-charges-2/
END:VEVENT
BEGIN:VEVENT
DTSTART;TZID=Asia/Kolkata:20260226T000000
DTEND;TZID=Asia/Kolkata:20260226T235959
DTSTAMP:20260425T055632
CREATED:20260108T045153Z
LAST-MODIFIED:20260108T045228Z
UID:10000089-1772064000-1772150399@sorasudung.in
SUMMARY:AKHIL SIKKIM KHAS CHETTRI BAHUN KALYAN SANGH'S FOUNDATION DAY
DESCRIPTION:
URL:https://sorasudung.in/event/akhil-sikkim-khas-chettri-bahun-kalyan-sanghs-foundation-day/
END:VEVENT
BEGIN:VEVENT
DTSTART;TZID=Asia/Kolkata:20260222T100000
DTEND;TZID=Asia/Kolkata:20260222T130000
DTSTAMP:20260425T055632
CREATED:20260111T060706Z
LAST-MODIFIED:20260111T060819Z
UID:10000130-1771754400-1771765200@sorasudung.in
SUMMARY:HOSTELLERS' PTA MEETING
DESCRIPTION:
URL:https://sorasudung.in/event/hostellers-pta-meeting-2/
END:VEVENT
END:VCALENDAR