BEGIN:VCALENDAR
VERSION:2.0
PRODID:-//SORA SCHOOL - ECPv6.15.1.1//NONSGML v1.0//EN
CALSCALE:GREGORIAN
METHOD:PUBLISH
X-ORIGINAL-URL:https://sorasudung.in
X-WR-CALDESC:Events for SORA SCHOOL
REFRESH-INTERVAL;VALUE=DURATION:PT1H
X-Robots-Tag:noindex
X-PUBLISHED-TTL:PT1H
BEGIN:VTIMEZONE
TZID:Asia/Kolkata
BEGIN:STANDARD
TZOFFSETFROM:+0530
TZOFFSETTO:+0530
TZNAME:IST
DTSTART:20260101T000000
END:STANDARD
END:VTIMEZONE
BEGIN:VEVENT
DTSTART;TZID=Asia/Kolkata:20260629T000000
DTEND;TZID=Asia/Kolkata:20260629T235959
DTSTAMP:20260424T210352
CREATED:20260112T034633Z
LAST-MODIFIED:20260112T034634Z
UID:10000148-1782691200-1782777599@sorasudung.in
SUMMARY:Half-Yearly Result Day- PTA Meeting Dayscholars
DESCRIPTION:
URL:https://sorasudung.in/event/half-yearly-result-day-pta-meeting-dayscholars/
END:VEVENT
BEGIN:VEVENT
DTSTART;TZID=Asia/Kolkata:20260630T000000
DTEND;TZID=Asia/Kolkata:20260711T235959
DTSTAMP:20260424T210352
CREATED:20260112T034859Z
LAST-MODIFIED:20260112T034900Z
UID:10000149-1782777600-1783814399@sorasudung.in
SUMMARY:Summer Vacation
DESCRIPTION:
URL:https://sorasudung.in/event/summer-vacation-2/
END:VEVENT
BEGIN:VEVENT
DTSTART;TZID=Asia/Kolkata:20260713T000000
DTEND;TZID=Asia/Kolkata:20260713T235959
DTSTAMP:20260424T210352
CREATED:20260108T052325Z
LAST-MODIFIED:20260108T052332Z
UID:10000098-1783900800-1783987199@sorasudung.in
SUMMARY:BHANU JAYANTI
DESCRIPTION:
URL:https://sorasudung.in/event/bhanu-jayanti/
END:VEVENT
BEGIN:VEVENT
DTSTART;TZID=Asia/Kolkata:20260714T000000
DTEND;TZID=Asia/Kolkata:20260714T235959
DTSTAMP:20260424T210352
CREATED:20260112T035116Z
LAST-MODIFIED:20260112T035117Z
UID:10000150-1783987200-1784073599@sorasudung.in
SUMMARY:School Re-opens After Summer Vacation
DESCRIPTION:
URL:https://sorasudung.in/event/school-re-opens-after-summer-vacation/
END:VEVENT
BEGIN:VEVENT
DTSTART;TZID=Asia/Kolkata:20260718T000000
DTEND;TZID=Asia/Kolkata:20260718T235959
DTSTAMP:20260424T210352
CREATED:20260108T052929Z
LAST-MODIFIED:20260108T052938Z
UID:10000099-1784332800-1784419199@sorasudung.in
SUMMARY:DRUKPA TSHE-ZI
DESCRIPTION:
URL:https://sorasudung.in/event/drukpa-tshe-zi-2/
END:VEVENT
BEGIN:VEVENT
DTSTART;TZID=Asia/Kolkata:20260724T000000
DTEND;TZID=Asia/Kolkata:20260724T235959
DTSTAMP:20260424T210352
CREATED:20260108T053427Z
LAST-MODIFIED:20260108T053501Z
UID:10000100-1784851200-1784937599@sorasudung.in
SUMMARY:GURU RINPOCHE'S THRUNKAR TSHECHU
DESCRIPTION:
URL:https://sorasudung.in/event/guru-rinpoches-thrunkar-tshechu-2/
END:VEVENT
BEGIN:VEVENT
DTSTART;TZID=Asia/Kolkata:20260808T000000
DTEND;TZID=Asia/Kolkata:20260808T235959
DTSTAMP:20260424T210352
CREATED:20260108T053656Z
LAST-MODIFIED:20260108T053705Z
UID:10000101-1786147200-1786233599@sorasudung.in
SUMMARY:TENDONG LHO RUM FAAT
DESCRIPTION:
URL:https://sorasudung.in/event/tendong-lho-rum-faat-2/
END:VEVENT
BEGIN:VEVENT
DTSTART;TZID=Asia/Kolkata:20260815T080000
DTEND;TZID=Asia/Kolkata:20260815T170000
DTSTAMP:20260424T210352
CREATED:20260108T053816Z
LAST-MODIFIED:20260108T053847Z
UID:10000102-1786780800-1786813200@sorasudung.in
SUMMARY:INDEPENDENCE DAY
DESCRIPTION:
URL:https://sorasudung.in/event/independence-day-2/
END:VEVENT
BEGIN:VEVENT
DTSTART;TZID=Asia/Kolkata:20260820T000000
DTEND;TZID=Asia/Kolkata:20260820T235959
DTSTAMP:20260424T210352
CREATED:20260108T054101Z
LAST-MODIFIED:20260108T054114Z
UID:10000103-1787184000-1787270399@sorasudung.in
SUMMARY:NEPALI BHASA MANYATA DIWAS
DESCRIPTION:
URL:https://sorasudung.in/event/nepali-bhasa-manyata-diwas-2/
END:VEVENT
BEGIN:VEVENT
DTSTART;TZID=Asia/Kolkata:20260824T000000
DTEND;TZID=Asia/Kolkata:20260903T235959
DTSTAMP:20260424T210352
CREATED:20260112T035628Z
LAST-MODIFIED:20260112T035629Z
UID:10000151-1787529600-1788479999@sorasudung.in
SUMMARY:MONTHLY TEST/FA-03
DESCRIPTION:
URL:https://sorasudung.in/event/monthly-test-fa-03/
END:VEVENT
BEGIN:VEVENT
DTSTART;TZID=Asia/Kolkata:20260828T000000
DTEND;TZID=Asia/Kolkata:20260828T235959
DTSTAMP:20260424T210352
CREATED:20260108T054227Z
LAST-MODIFIED:20260108T054238Z
UID:10000104-1787875200-1787961599@sorasudung.in
SUMMARY:PANG LHABSOL
DESCRIPTION:
URL:https://sorasudung.in/event/pang-lhabsol-2/
END:VEVENT
BEGIN:VEVENT
DTSTART;TZID=Asia/Kolkata:20260904T000000
DTEND;TZID=Asia/Kolkata:20260904T235959
DTSTAMP:20260424T210352
CREATED:20260108T054403Z
LAST-MODIFIED:20260108T054440Z
UID:10000105-1788480000-1788566399@sorasudung.in
SUMMARY:JANMASTHAMI
DESCRIPTION:
URL:https://sorasudung.in/event/janmasthami-2/
END:VEVENT
BEGIN:VEVENT
DTSTART;TZID=Asia/Kolkata:20260905T000000
DTEND;TZID=Asia/Kolkata:20260905T235959
DTSTAMP:20260424T210352
CREATED:20260112T035937Z
LAST-MODIFIED:20260112T035938Z
UID:10000152-1788566400-1788652799@sorasudung.in
SUMMARY:Teachers' Day Celebration
DESCRIPTION:
URL:https://sorasudung.in/event/teachers-day-celebration/
END:VEVENT
BEGIN:VEVENT
DTSTART;TZID=Asia/Kolkata:20260912T000000
DTEND;TZID=Asia/Kolkata:20260912T235959
DTSTAMP:20260424T210352
CREATED:20260112T040113Z
LAST-MODIFIED:20260112T040114Z
UID:10000153-1789171200-1789257599@sorasudung.in
SUMMARY:Inter-Class One Act Play Competition Class I-VIII
DESCRIPTION:
URL:https://sorasudung.in/event/inter-class-one-act-play-competition-class-i-viii/
END:VEVENT
BEGIN:VEVENT
DTSTART;TZID=Asia/Kolkata:20260914T000000
DTEND;TZID=Asia/Kolkata:20260914T235959
DTSTAMP:20260424T210352
CREATED:20260108T054634Z
LAST-MODIFIED:20260108T054649Z
UID:10000106-1789344000-1789430399@sorasudung.in
SUMMARY:TEEJ (HARITALIKA)
DESCRIPTION:
URL:https://sorasudung.in/event/teej-haritalika-2/
END:VEVENT
BEGIN:VEVENT
DTSTART;TZID=Asia/Kolkata:20260919T000000
DTEND;TZID=Asia/Kolkata:20260919T235959
DTSTAMP:20260424T210352
CREATED:20260112T040330Z
LAST-MODIFIED:20260112T040331Z
UID:10000154-1789776000-1789862399@sorasudung.in
SUMMARY:Inter-House Quiz Competition-Senior/ Junior
DESCRIPTION:
URL:https://sorasudung.in/event/inter-house-quiz-competition-senior-junior/
END:VEVENT
BEGIN:VEVENT
DTSTART;TZID=Asia/Kolkata:20260925T000000
DTEND;TZID=Asia/Kolkata:20260925T235959
DTSTAMP:20260424T210352
CREATED:20260108T054741Z
LAST-MODIFIED:20260108T054757Z
UID:10000107-1790294400-1790380799@sorasudung.in
SUMMARY:INDRAJATRA
DESCRIPTION:
URL:https://sorasudung.in/event/indrajatra-3/
END:VEVENT
BEGIN:VEVENT
DTSTART;TZID=Asia/Kolkata:20261002T000000
DTEND;TZID=Asia/Kolkata:20261002T235959
DTSTAMP:20260424T210352
CREATED:20260108T054857Z
LAST-MODIFIED:20260108T054923Z
UID:10000108-1790899200-1790985599@sorasudung.in
SUMMARY:GANDHI JAYANTI
DESCRIPTION:
URL:https://sorasudung.in/event/gandhi-jayanti-2/
END:VEVENT
BEGIN:VEVENT
DTSTART;TZID=Asia/Kolkata:20261003T000000
DTEND;TZID=Asia/Kolkata:20261003T235959
DTSTAMP:20260424T210352
CREATED:20260112T040501Z
LAST-MODIFIED:20260112T040502Z
UID:10000155-1790985600-1791071999@sorasudung.in
SUMMARY:Inter- Class Dance Competition
DESCRIPTION:
URL:https://sorasudung.in/event/inter-class-dance-competition/
END:VEVENT
BEGIN:VEVENT
DTSTART;TZID=Asia/Kolkata:20261005T000000
DTEND;TZID=Asia/Kolkata:20261005T235959
DTSTAMP:20260424T210352
CREATED:20260108T055209Z
LAST-MODIFIED:20260108T055216Z
UID:10000109-1791158400-1791244799@sorasudung.in
SUMMARY:BIRTHDAY OF LATE NAR BAHADUR BHANDARI FORMER C. M. OF SIKKIM
DESCRIPTION:
URL:https://sorasudung.in/event/birthday-of-late-nar-bahadur-bhandari-former-c-m-of-sikkim/
END:VEVENT
BEGIN:VEVENT
DTSTART;TZID=Asia/Kolkata:20261008T000000
DTEND;TZID=Asia/Kolkata:20261016T235959
DTSTAMP:20260424T210352
CREATED:20260112T040727Z
LAST-MODIFIED:20260112T040728Z
UID:10000156-1791417600-1792195199@sorasudung.in
SUMMARY:MONTHLY TEST/ FA-04
DESCRIPTION:
URL:https://sorasudung.in/event/monthly-test-fa-04/
END:VEVENT
BEGIN:VEVENT
DTSTART;TZID=Asia/Kolkata:20261019T000000
DTEND;TZID=Asia/Kolkata:20261023T235959
DTSTAMP:20260424T210352
CREATED:20260108T055811Z
LAST-MODIFIED:20260108T055839Z
UID:10000110-1792368000-1792799999@sorasudung.in
SUMMARY:DURGA PUJA (DASAIN)
DESCRIPTION:
URL:https://sorasudung.in/event/durga-puja-dasain-2/
END:VEVENT
BEGIN:VEVENT
DTSTART;TZID=Asia/Kolkata:20261101T000000
DTEND;TZID=Asia/Kolkata:20261101T235959
DTSTAMP:20260424T210352
CREATED:20260108T060443Z
LAST-MODIFIED:20260108T060447Z
UID:10000111-1793491200-1793577599@sorasudung.in
SUMMARY:LHABAB DUECHEN
DESCRIPTION:
URL:https://sorasudung.in/event/lhabab-duechen-2/
END:VEVENT
BEGIN:VEVENT
DTSTART;TZID=Asia/Kolkata:20261109T000000
DTEND;TZID=Asia/Kolkata:20261111T235959
DTSTAMP:20260424T210352
CREATED:20260108T060703Z
LAST-MODIFIED:20260108T060713Z
UID:10000112-1794182400-1794441599@sorasudung.in
SUMMARY:LAXMI PUJA (DEEPAWALI)
DESCRIPTION:
URL:https://sorasudung.in/event/laxmi-puja-deepawali/
END:VEVENT
BEGIN:VEVENT
DTSTART;TZID=Asia/Kolkata:20261114T000000
DTEND;TZID=Asia/Kolkata:20261114T235959
DTSTAMP:20260424T210352
CREATED:20260112T041328Z
LAST-MODIFIED:20260112T041329Z
UID:10000157-1794614400-1794700799@sorasudung.in
SUMMARY:Children's Day Celebration
DESCRIPTION:
URL:https://sorasudung.in/event/childrens-day-celebration/
END:VEVENT
BEGIN:VEVENT
DTSTART;TZID=Asia/Kolkata:20261123T000000
DTEND;TZID=Asia/Kolkata:20261202T235959
DTSTAMP:20260424T210352
CREATED:20260112T041549Z
LAST-MODIFIED:20260112T041550Z
UID:10000158-1795392000-1796255999@sorasudung.in
SUMMARY:ANNUAL EXAMS/ SA-02
DESCRIPTION:
URL:https://sorasudung.in/event/annual-exams-sa-02/
END:VEVENT
BEGIN:VEVENT
DTSTART;TZID=Asia/Kolkata:20261130T000000
DTEND;TZID=Asia/Kolkata:20261130T235959
DTSTAMP:20260424T210352
CREATED:20260108T060836Z
LAST-MODIFIED:20260108T060842Z
UID:10000113-1795996800-1796083199@sorasudung.in
SUMMARY:SAKEWA
DESCRIPTION:
URL:https://sorasudung.in/event/sakewa-2/
END:VEVENT
BEGIN:VEVENT
DTSTART;TZID=Asia/Kolkata:20261205T000000
DTEND;TZID=Asia/Kolkata:20261205T235959
DTSTAMP:20260424T210352
CREATED:20260112T041805Z
LAST-MODIFIED:20260112T041806Z
UID:10000159-1796428800-1796515199@sorasudung.in
SUMMARY:Annual Result & Prize Distribution Day/PTA Meeting
DESCRIPTION:
URL:https://sorasudung.in/event/annual-result-prize-distribution-day-pta-meeting-2/
END:VEVENT
BEGIN:VEVENT
DTSTART;TZID=Asia/Kolkata:20261207T000000
DTEND;TZID=Asia/Kolkata:20261207T235959
DTSTAMP:20260424T210352
CREATED:20260108T061136Z
LAST-MODIFIED:20260112T042502Z
UID:10000114-1796601600-1796687999@sorasudung.in
SUMMARY:KAGYED DANCE/School Closes For Winter Vacation
DESCRIPTION:
URL:https://sorasudung.in/event/kagyed-dance-3/
END:VEVENT
BEGIN:VEVENT
DTSTART;TZID=Asia/Kolkata:20261209T080000
DTEND;TZID=Asia/Kolkata:20261214T170000
DTSTAMP:20260424T210352
CREATED:20260108T061319Z
LAST-MODIFIED:20260108T061335Z
UID:10000115-1796803200-1797267600@sorasudung.in
SUMMARY:LOSOONG/NAMSOONG
DESCRIPTION:
URL:https://sorasudung.in/event/losoong-namsoong-3/
END:VEVENT
END:VCALENDAR