BEGIN:VCALENDAR
VERSION:2.0
PRODID:-//SORA SCHOOL - ECPv6.15.1.1//NONSGML v1.0//EN
CALSCALE:GREGORIAN
METHOD:PUBLISH
X-WR-CALNAME:SORA SCHOOL
X-ORIGINAL-URL:https://sorasudung.in
X-WR-CALDESC:Events for SORA SCHOOL
REFRESH-INTERVAL;VALUE=DURATION:PT1H
X-Robots-Tag:noindex
X-PUBLISHED-TTL:PT1H
BEGIN:VTIMEZONE
TZID:Asia/Kolkata
BEGIN:STANDARD
TZOFFSETFROM:+0530
TZOFFSETTO:+0530
TZNAME:IST
DTSTART:20250101T000000
END:STANDARD
END:VTIMEZONE
BEGIN:VEVENT
DTSTART;TZID=Asia/Kolkata:20251114T000000
DTEND;TZID=Asia/Kolkata:20251114T235959
DTSTAMP:20260425T061853
CREATED:20250906T021950Z
LAST-MODIFIED:20251004T021742Z
UID:10000014-1763078400-1763164799@sorasudung.in
SUMMARY:Children Day Celebration
DESCRIPTION:Children’s Day\, celebrated on November 14th every year\, marks the birth anniversary of Jawaharlal Nehru\, India’s first Prime Minister. He was fondly known as “Chacha Nehru” and loved children\, inspiring them through his vision of a bright future. This day is dedicated to promoting children’s welfare\, rights\, and education\, highlighting the importance of nurturing young minds. Let’s honor the legacy of Chacha Nehru by ensuring every child has access to quality education and a nurturing environment to grow.
URL:https://sorasudung.in/event/children-day-celebration/
END:VEVENT
BEGIN:VEVENT
DTSTART;TZID=Asia/Kolkata:20251111T000000
DTEND;TZID=Asia/Kolkata:20251111T235959
DTSTAMP:20260425T061853
CREATED:20250906T021816Z
LAST-MODIFIED:20251004T020958Z
UID:10000013-1762819200-1762905599@sorasudung.in
SUMMARY:LHABAB DUECHEN
DESCRIPTION:Lhabab Duechen is a significant Buddhist festival celebrated in Sikkim and other Himalayan regions. It commemorates Lord Buddha’s descent from the heavens after preaching to his mother. Observed on the 22nd day of the ninth month of the Tibetan lunar calendar\, the festival is marked by offerings\, prayers\, and festivities at monasteries\, symbolizing spiritual growth and enlightenment.
URL:https://sorasudung.in/event/lhabab-duechen/
END:VEVENT
BEGIN:VEVENT
DTSTART;TZID=Asia/Kolkata:20251020T000000
DTEND;TZID=Asia/Kolkata:20251023T235959
DTSTAMP:20260425T061853
CREATED:20250906T020744Z
LAST-MODIFIED:20250925T134601Z
UID:10000010-1760918400-1761263999@sorasudung.in
SUMMARY:DEEPAWALI (LAXMI PUJA)
DESCRIPTION:Historically Diwali\, or Deepawali\, is celebrated to commemorates Lord Rama’s return to Ayodhya after 14 years of exile\, defeating Ravana\, the demon king. The people of Ayodhya welcomed him by lighting diyas (lamps).In some parts of India\, Diwali is celebrated for Lord Krishna’s victory over the demon king Narakasura. Also\, Diwali is associated with the worship of Goddess Lakshmi\, the goddess of wealth and prosperity\, who is believed to visit homes that are clean and well-lit.However\, the underlying theme of the festival symbolizes the triumph of light (good) over darkness (evil) and knowledge over ignorance.
URL:https://sorasudung.in/event/deepawali-laxmi-puja/
END:VEVENT
BEGIN:VEVENT
DTSTART;TZID=Asia/Kolkata:20251010T000000
DTEND;TZID=Asia/Kolkata:20251018T235959
DTSTAMP:20260425T061853
CREATED:20250923T055419Z
LAST-MODIFIED:20250923T072930Z
UID:10000082-1760054400-1760831999@sorasudung.in
SUMMARY:FA-04/MT-04 PREPONED
DESCRIPTION:CLASS I – VIII-  FA-04 ROUTINE-2025 \n\n\n\n10/10/2025-FRIDAY- ENG.LITERATURE \n\n\n\n11/10/2025-SATURDAY-LANGUAGE \n\n\n\n13/10/2025-MONDAY-MATHS \n\n\n\n14/10/2025-TUESDAY-SCIENCE \n\n\n\n15/10/2025-WEDNESDAY-SOCIALSTUDIES \n\n\n\n16/10/2025–THURSDAY- HINDI \n\n\n\n17/10/2025-FRIDAY-ENG.GRAMMAR \n\n\n\n18/10/2025-SATURDAY-GK & COMP \n\n\n\nNURSERY- MONTHLY TEST 04 ROUTINE-2025 \n\n\n\n10/10/2025-FRIDAY-ENGLISH  \n\n\n\n11/10/2025-SATURDAY- MATHS \n\n\n\n13/10/2025-MONDAY-DRAWING \n\n\n\n14/10/2025-TUESDAY-HANDWRITING \n\n\n\n15/10/2025-WEDNESDAY-CONVERSATION \n\n\n\n16/10/2025-THURSDAY-VOCABULARY \n\n\n\n17/10/2025-FRIDAY-RHYMES \n\n\n\n18/10/2025- SATURDAY————– \n\n\n\nLKG-MONTHLY TEST 04 ROUTINE-2025 \n\n\n\n10/10/2025-FRIDAY-ENGLISH  \n\n\n\n11/10/2025-SATURDAY- MATHS \n\n\n\n13/10/2025-MONDAY-SCIENCE \n\n\n\n14/10/2025-TUESDAY-NEPALI \n\n\n\n15/10/2025-WEDNESDAY-DRAWING \n\n\n\n16/10/2025-THURSDAY-HANDWRITING \n\n\n\n17/10/2025-FRIDAY-VOCABULARY \n\n\n\n18/10/2025-RHYMES/CONV. \n\n\n\nUKG- MONTHLY TEST 04 ROUTINE-2025 \n\n\n\n10/10/2025-FRIDAY-ENGLISH  \n\n\n\n11/10/2025-SATURDAY-LANGUAGE  \n\n\n\n13/10/2025-MONDAY-MATHS \n\n\n\n14/10/2025-TUESDAY-SCIENCE \n\n\n\n15/10/2025-WEDNESDAY-HINDI \n\n\n\n16/10/2025-THURSDAY-DRAWING \n\n\n\n17/10/2025-FRIDAY-HANDWRITING/CONV. \n\n\n\n18/10/2025-SATURDAY-RHYMES/VOCAB.
URL:https://sorasudung.in/event/fa-04-mt-04-preponed/
END:VEVENT
BEGIN:VEVENT
DTSTART;TZID=Asia/Kolkata:20251005T000000
DTEND;TZID=Asia/Kolkata:20251005T235959
DTSTAMP:20260425T061853
CREATED:20250906T015708Z
LAST-MODIFIED:20250925T060233Z
UID:10000009-1759622400-1759708799@sorasudung.in
SUMMARY:BIRTHDAY OF LATE NAR BAHADUR BHANDARI ( Former CM of Sikkim)
DESCRIPTION:Nar Bahadur Bhandari\, the former Chief Minister of Sikkim\, was born on October 5\, 1940\, in Malbasay village near Soreng\, West Sikkim. His birthday is celebrated as a regional public holiday in Sikkim\, marking the birth anniversary of a leader who played a significant role in shaping the state’s development. Bhandari served as Chief Minister from 1979 to 1994 and was instrumental in including the Nepali language in the 8th Schedule of the Constitution of India. He’s popularly known as the architect of modern Sikkim due to his contributions to the state’s infrastructure\, education\, and healthcare.¹
URL:https://sorasudung.in/event/birthday-of-late-nar-bahadur-bhandari-former-cm-of-sikkim/
END:VEVENT
BEGIN:VEVENT
DTSTART;TZID=Asia/Kolkata:20251002T000000
DTEND;TZID=Asia/Kolkata:20251002T235959
DTSTAMP:20260425T061853
CREATED:20251002T055018Z
LAST-MODIFIED:20251002T055021Z
UID:10000083-1759363200-1759449599@sorasudung.in
SUMMARY:GANDHI JAYANTI
DESCRIPTION:Gandhi Jayanti\, celebrated on October 2nd\, marks the birth anniversary of Mahatma Gandhi\, the Father of the Nation. Known for his principles of truth\, non-violence\, and simplicity\, Gandhi played a pivotal role in India’s struggle for independence. His legacy continues to inspire people worldwide towards peace\, harmony\, and social justice. Let’s pay homage to the Mahatma and strive to follow his ideals.
URL:https://sorasudung.in/event/gandhi-jayanti/
END:VEVENT
BEGIN:VEVENT
DTSTART;TZID=Asia/Kolkata:20250929T000000
DTEND;TZID=Asia/Kolkata:20251004T235959
DTSTAMP:20260425T061853
CREATED:20250906T015344Z
LAST-MODIFIED:20250925T135055Z
UID:10000008-1759104000-1759622399@sorasudung.in
SUMMARY:DURGA PUJA (DASAIN)
DESCRIPTION:Durga Puja is a festival honoring Goddess Durga’s victory over the buffalo-demon Mahishasura\, celebrated primarily in Eastern India\, especially in West Bengal\, Odisha\, and Assam.\n\n\n\nDussehra\, also known as Vijayadashami\, celebrates Lord Rama’s victory over Ravana\, observed mainly in North India.\n\n\n\n\nBoth festivals symbolize the triumph of good over evil\, but they have different mythological backgrounds and cultural traditions. The coincidence of dates is due to both festivals being celebrated according to the lunar calendar\, often falling within the same period.
URL:https://sorasudung.in/event/durga-puja-dasain/
END:VEVENT
BEGIN:VEVENT
DTSTART;TZID=Asia/Kolkata:20250927T000000
DTEND;TZID=Asia/Kolkata:20250927T235959
DTSTAMP:20260425T061853
CREATED:20250907T083824Z
LAST-MODIFIED:20250907T083826Z
UID:10000079-1758931200-1759017599@sorasudung.in
SUMMARY:Inter-House Quiz Competition
DESCRIPTION:
URL:https://sorasudung.in/event/inter-house-quiz-competition/
END:VEVENT
BEGIN:VEVENT
DTSTART;TZID=Asia/Kolkata:20250920T080000
DTEND;TZID=Asia/Kolkata:20250920T170000
DTSTAMP:20260425T061853
CREATED:20250906T013721Z
LAST-MODIFIED:20250906T013723Z
UID:10000006-1758355200-1758387600@sorasudung.in
SUMMARY:Inter-Class One Act Play Competition
DESCRIPTION:CLASS I-VIII
URL:https://sorasudung.in/event/inter-class-one-act-play-competition-2/
END:VEVENT
BEGIN:VEVENT
DTSTART;TZID=Asia/Kolkata:20250907T080000
DTEND;TZID=Asia/Kolkata:20250907T170000
DTSTAMP:20260425T061853
CREATED:20250906T012200Z
LAST-MODIFIED:20250906T012202Z
UID:10000004-1757232000-1757264400@sorasudung.in
SUMMARY:PANG LHABSOL
DESCRIPTION:HOLIDAY
URL:https://sorasudung.in/event/pang-lhabsol/
END:VEVENT
BEGIN:VEVENT
DTSTART;TZID=Asia/Kolkata:20250906T080000
DTEND;TZID=Asia/Kolkata:20250906T170000
DTSTAMP:20260425T061853
CREATED:20250906T012011Z
LAST-MODIFIED:20250906T012013Z
UID:10000003-1757145600-1757178000@sorasudung.in
SUMMARY:INDRAJATRA
DESCRIPTION:
URL:https://sorasudung.in/event/indrajatra-2/
END:VEVENT
BEGIN:VEVENT
DTSTART;TZID=Asia/Kolkata:20250905T080000
DTEND;TZID=Asia/Kolkata:20250905T170000
DTSTAMP:20260425T061853
CREATED:20250906T013330Z
LAST-MODIFIED:20250906T013332Z
UID:10000005-1757059200-1757091600@sorasudung.in
SUMMARY:Inter-Class One Act Play Competition
DESCRIPTION:CLASS I-VIII
URL:https://sorasudung.in/event/inter-class-one-act-play-competition/
END:VEVENT
BEGIN:VEVENT
DTSTART;VALUE=DATE:20250905
DTEND;VALUE=DATE:20250906
DTSTAMP:20260425T061853
CREATED:20250902T065020Z
LAST-MODIFIED:20250905T151608Z
UID:10000001-1757030400-1757116799@sorasudung.in
SUMMARY:Teacher's Day 2025
DESCRIPTION:
URL:https://sorasudung.in/event/teachers-day-2025/
ATTACH;FMTTYPE=image/jpeg:https://sorasudung.in/wp-content/uploads/2025/09/WhatsApp-Image-2025-09-05-at-06.50.48_69e64970-scaled.jpg
END:VEVENT
BEGIN:VEVENT
DTSTART;TZID=Asia/Kolkata:20250827T080000
DTEND;TZID=Asia/Kolkata:20250830T170000
DTSTAMP:20260425T061853
CREATED:20250906T040508Z
LAST-MODIFIED:20250906T040510Z
UID:10000078-1756281600-1756573200@sorasudung.in
SUMMARY:FA-03/MONTHLY TEST CONTINUES
DESCRIPTION:
URL:https://sorasudung.in/event/fa-03-monthly-test-continues/
END:VEVENT
BEGIN:VEVENT
DTSTART;TZID=Asia/Kolkata:20250826T000000
DTEND;TZID=Asia/Kolkata:20250826T235959
DTSTAMP:20260425T061853
CREATED:20250906T040356Z
LAST-MODIFIED:20250906T040358Z
UID:10000077-1756166400-1756252799@sorasudung.in
SUMMARY:TEEJ (HARITALIKA)
DESCRIPTION:
URL:https://sorasudung.in/event/teej-haritalika/
END:VEVENT
BEGIN:VEVENT
DTSTART;TZID=Asia/Kolkata:20250821T000000
DTEND;TZID=Asia/Kolkata:20250825T235959
DTSTAMP:20260425T061853
CREATED:20250906T040243Z
LAST-MODIFIED:20250906T040244Z
UID:10000076-1755734400-1756166399@sorasudung.in
SUMMARY:FA-03/MONTHLY TEST-03
DESCRIPTION:
URL:https://sorasudung.in/event/fa-03-monthly-test-03/
END:VEVENT
BEGIN:VEVENT
DTSTART;TZID=Asia/Kolkata:20250820T000000
DTEND;TZID=Asia/Kolkata:20250820T235959
DTSTAMP:20260425T061853
CREATED:20250906T040111Z
LAST-MODIFIED:20250906T040112Z
UID:10000075-1755648000-1755734399@sorasudung.in
SUMMARY:NEPALI BHASA MANYATA DIWAS
DESCRIPTION:
URL:https://sorasudung.in/event/nepali-bhasa-manyata-diwas/
END:VEVENT
BEGIN:VEVENT
DTSTART;TZID=Asia/Kolkata:20250816T000000
DTEND;TZID=Asia/Kolkata:20250816T235959
DTSTAMP:20260425T061853
CREATED:20250906T040010Z
LAST-MODIFIED:20250906T040012Z
UID:10000074-1755302400-1755388799@sorasudung.in
SUMMARY:JANMASTHAMI
DESCRIPTION:
URL:https://sorasudung.in/event/janmasthami/
END:VEVENT
BEGIN:VEVENT
DTSTART;TZID=Asia/Kolkata:20250815T000000
DTEND;TZID=Asia/Kolkata:20250815T235959
DTSTAMP:20260425T061853
CREATED:20250906T035900Z
LAST-MODIFIED:20250906T035902Z
UID:10000073-1755216000-1755302399@sorasudung.in
SUMMARY:INDEPENDENCE DAY
DESCRIPTION:
URL:https://sorasudung.in/event/independence-day/
END:VEVENT
BEGIN:VEVENT
DTSTART;TZID=Asia/Kolkata:20250808T000000
DTEND;TZID=Asia/Kolkata:20250808T235959
DTSTAMP:20260425T061853
CREATED:20250906T035720Z
LAST-MODIFIED:20250906T035724Z
UID:10000072-1754611200-1754697599@sorasudung.in
SUMMARY:TENDONG LHO RUM FAAT
DESCRIPTION:
URL:https://sorasudung.in/event/tendong-lho-rum-faat/
END:VEVENT
BEGIN:VEVENT
DTSTART;TZID=Asia/Kolkata:20250804T000000
DTEND;TZID=Asia/Kolkata:20250804T235959
DTSTAMP:20260425T061853
CREATED:20250906T035609Z
LAST-MODIFIED:20250906T035611Z
UID:10000071-1754265600-1754351999@sorasudung.in
SUMMARY:GURU RINPOCHE’S THRUNKAR TSHECHU
DESCRIPTION:
URL:https://sorasudung.in/event/guru-rinpoches-thrunkar-tshechu/
END:VEVENT
BEGIN:VEVENT
DTSTART;TZID=Asia/Kolkata:20250728T000000
DTEND;TZID=Asia/Kolkata:20250728T235959
DTSTAMP:20260425T061853
CREATED:20250906T035316Z
LAST-MODIFIED:20250906T035358Z
UID:10000070-1753660800-1753747199@sorasudung.in
SUMMARY:DRUKPA TSHE-ZI
DESCRIPTION:
URL:https://sorasudung.in/event/drukpa-tshe-zi/
END:VEVENT
BEGIN:VEVENT
DTSTART;TZID=Asia/Kolkata:20250726T000000
DTEND;TZID=Asia/Kolkata:20250726T235959
DTSTAMP:20260425T061853
CREATED:20250906T035123Z
LAST-MODIFIED:20250906T035142Z
UID:10000069-1753488000-1753574399@sorasudung.in
SUMMARY:Inter-House Debate Competition (Nepali)
DESCRIPTION:
URL:https://sorasudung.in/event/inter-house-debate-competition-nepali/
END:VEVENT
BEGIN:VEVENT
DTSTART;TZID=Asia/Kolkata:20250719T000000
DTEND;TZID=Asia/Kolkata:20250719T235959
DTSTAMP:20260425T061853
CREATED:20250906T034918Z
LAST-MODIFIED:20250906T034945Z
UID:10000068-1752883200-1752969599@sorasudung.in
SUMMARY:Handwriting Competition
DESCRIPTION:
URL:https://sorasudung.in/event/handwriting-competition/
END:VEVENT
BEGIN:VEVENT
DTSTART;TZID=Asia/Kolkata:20250715T000000
DTEND;TZID=Asia/Kolkata:20250715T235959
DTSTAMP:20260425T061853
CREATED:20250906T034756Z
LAST-MODIFIED:20250906T034759Z
UID:10000067-1752537600-1752623999@sorasudung.in
SUMMARY:School Reopens  AFTER SUMMER BREAK
DESCRIPTION:
URL:https://sorasudung.in/event/school-reopens-after-summer-break/
END:VEVENT
BEGIN:VEVENT
DTSTART;TZID=Asia/Kolkata:20250705T080000
DTEND;TZID=Asia/Kolkata:20250714T170000
DTSTAMP:20260425T061853
CREATED:20250906T034605Z
LAST-MODIFIED:20250906T034606Z
UID:10000066-1751702400-1752512400@sorasudung.in
SUMMARY:Summer Vacation
DESCRIPTION:
URL:https://sorasudung.in/event/summer-vacation/
END:VEVENT
BEGIN:VEVENT
DTSTART;TZID=Asia/Kolkata:20250704T000000
DTEND;TZID=Asia/Kolkata:20250704T235959
DTSTAMP:20260425T061853
CREATED:20250906T034401Z
LAST-MODIFIED:20250906T034403Z
UID:10000065-1751587200-1751673599@sorasudung.in
SUMMARY:Half- Yearly Result Day/ PTA Meeting
DESCRIPTION:
URL:https://sorasudung.in/event/half-yearly-result-day-pta-meeting/
END:VEVENT
BEGIN:VEVENT
DTSTART;TZID=Asia/Kolkata:20250621T000000
DTEND;TZID=Asia/Kolkata:20250630T235959
DTSTAMP:20260425T061853
CREATED:20250906T034246Z
LAST-MODIFIED:20250906T034248Z
UID:10000064-1750464000-1751327999@sorasudung.in
SUMMARY:SA-01/HALF-YEARLY EXAM
DESCRIPTION:
URL:https://sorasudung.in/event/sa-01-half-yearly-exam/
END:VEVENT
BEGIN:VEVENT
DTSTART;TZID=Asia/Kolkata:20250615T000000
DTEND;TZID=Asia/Kolkata:20250615T235959
DTSTAMP:20260425T061853
CREATED:20250906T034043Z
LAST-MODIFIED:20250906T034045Z
UID:10000063-1749945600-1750031999@sorasudung.in
SUMMARY:SCHOOL FOUNDER’S DAY
DESCRIPTION:
URL:https://sorasudung.in/event/school-founders-day/
END:VEVENT
BEGIN:VEVENT
DTSTART;TZID=Asia/Kolkata:20250611T000000
DTEND;TZID=Asia/Kolkata:20250611T235959
DTSTAMP:20260425T061853
CREATED:20250906T033838Z
LAST-MODIFIED:20250906T033840Z
UID:10000062-1749600000-1749686399@sorasudung.in
SUMMARY:SAGA DAWA
DESCRIPTION:
URL:https://sorasudung.in/event/saga-dawa/
END:VEVENT
END:VCALENDAR