BEGIN:VCALENDAR
VERSION:2.0
PRODID:-//SORA SCHOOL - ECPv6.15.1.1//NONSGML v1.0//EN
CALSCALE:GREGORIAN
METHOD:PUBLISH
X-ORIGINAL-URL:https://sorasudung.in
X-WR-CALDESC:Events for SORA SCHOOL
REFRESH-INTERVAL;VALUE=DURATION:PT1H
X-Robots-Tag:noindex
X-PUBLISHED-TTL:PT1H
BEGIN:VTIMEZONE
TZID:Asia/Kolkata
BEGIN:STANDARD
TZOFFSETFROM:+0530
TZOFFSETTO:+0530
TZNAME:IST
DTSTART:20260101T000000
END:STANDARD
END:VTIMEZONE
BEGIN:VEVENT
DTSTART;TZID=Asia/Kolkata:20261205T000000
DTEND;TZID=Asia/Kolkata:20261205T235959
DTSTAMP:20260425T060001
CREATED:20260112T041805Z
LAST-MODIFIED:20260112T041806Z
UID:10000159-1796428800-1796515199@sorasudung.in
SUMMARY:Annual Result & Prize Distribution Day/PTA Meeting
DESCRIPTION:
URL:https://sorasudung.in/event/annual-result-prize-distribution-day-pta-meeting-2/
END:VEVENT
BEGIN:VEVENT
DTSTART;TZID=Asia/Kolkata:20261207T000000
DTEND;TZID=Asia/Kolkata:20261207T235959
DTSTAMP:20260425T060001
CREATED:20260108T061136Z
LAST-MODIFIED:20260112T042502Z
UID:10000114-1796601600-1796687999@sorasudung.in
SUMMARY:KAGYED DANCE/School Closes For Winter Vacation
DESCRIPTION:
URL:https://sorasudung.in/event/kagyed-dance-3/
END:VEVENT
BEGIN:VEVENT
DTSTART;TZID=Asia/Kolkata:20261209T080000
DTEND;TZID=Asia/Kolkata:20261214T170000
DTSTAMP:20260425T060001
CREATED:20260108T061319Z
LAST-MODIFIED:20260108T061335Z
UID:10000115-1796803200-1797267600@sorasudung.in
SUMMARY:LOSOONG/NAMSOONG
DESCRIPTION:
URL:https://sorasudung.in/event/losoong-namsoong-3/
END:VEVENT
BEGIN:VEVENT
DTSTART;TZID=Asia/Kolkata:20261215T000000
DTEND;TZID=Asia/Kolkata:20261215T235959
DTSTAMP:20260425T060001
CREATED:20260108T062053Z
LAST-MODIFIED:20260108T062113Z
UID:10000117-1797292800-1797379199@sorasudung.in
SUMMARY:CHASOK TONGNAM
DESCRIPTION:
URL:https://sorasudung.in/event/chasok-tongnam-2/
END:VEVENT
BEGIN:VEVENT
DTSTART;TZID=Asia/Kolkata:20261215T080000
DTEND;TZID=Asia/Kolkata:20261216T170000
DTSTAMP:20260425T060001
CREATED:20260108T061458Z
LAST-MODIFIED:20260108T061506Z
UID:10000116-1797321600-1797440400@sorasudung.in
SUMMARY:NYENPA GUZOM
DESCRIPTION:
URL:https://sorasudung.in/event/nyenpa-guzom-2/
END:VEVENT
BEGIN:VEVENT
DTSTART;TZID=Asia/Kolkata:20261223T000000
DTEND;TZID=Asia/Kolkata:20261223T235959
DTSTAMP:20260425T060001
CREATED:20260108T062257Z
LAST-MODIFIED:20260108T062315Z
UID:10000118-1797984000-1798070399@sorasudung.in
SUMMARY:PUHGAL PARIM
DESCRIPTION:
URL:https://sorasudung.in/event/puhgal-parim/
END:VEVENT
BEGIN:VEVENT
DTSTART;TZID=Asia/Kolkata:20261223T000000
DTEND;TZID=Asia/Kolkata:20261223T235959
DTSTAMP:20260425T060001
CREATED:20260108T062529Z
LAST-MODIFIED:20260108T062545Z
UID:10000119-1797984000-1798070399@sorasudung.in
SUMMARY:TEYONGSI SIRIJUNGA SAWAN TONGNAM
DESCRIPTION:
URL:https://sorasudung.in/event/teyongsi-sirijunga-sawan-tongnam/
END:VEVENT
BEGIN:VEVENT
DTSTART;TZID=Asia/Kolkata:20261225T000000
DTEND;TZID=Asia/Kolkata:20261225T235959
DTSTAMP:20260425T060001
CREATED:20260108T062640Z
LAST-MODIFIED:20260108T062655Z
UID:10000120-1798156800-1798243199@sorasudung.in
SUMMARY:CHRISTMAS
DESCRIPTION:
URL:https://sorasudung.in/event/christmas/
END:VEVENT
BEGIN:VEVENT
DTSTART;TZID=Asia/Kolkata:20261228T000000
DTEND;TZID=Asia/Kolkata:20261228T235959
DTSTAMP:20260425T060001
CREATED:20260108T062759Z
LAST-MODIFIED:20260108T062830Z
UID:10000121-1798416000-1798502399@sorasudung.in
SUMMARY:BARAHIMZONG
DESCRIPTION:
URL:https://sorasudung.in/event/barahimzong/
END:VEVENT
BEGIN:VEVENT
DTSTART;TZID=Asia/Kolkata:20261230T000000
DTEND;TZID=Asia/Kolkata:20261230T235959
DTSTAMP:20260425T060001
CREATED:20260108T062931Z
LAST-MODIFIED:20260108T063027Z
UID:10000122-1798588800-1798675199@sorasudung.in
SUMMARY:TAMU LOCHAR
DESCRIPTION:
URL:https://sorasudung.in/event/tamu-lochar-2/
END:VEVENT
END:VCALENDAR