BEGIN:VCALENDAR
VERSION:2.0
PRODID:-//SORA SCHOOL - ECPv6.15.1.1//NONSGML v1.0//EN
CALSCALE:GREGORIAN
METHOD:PUBLISH
X-WR-CALNAME:SORA SCHOOL
X-ORIGINAL-URL:https://sorasudung.in
X-WR-CALDESC:Events for SORA SCHOOL
REFRESH-INTERVAL;VALUE=DURATION:PT1H
X-Robots-Tag:noindex
X-PUBLISHED-TTL:PT1H
BEGIN:VTIMEZONE
TZID:Asia/Kolkata
BEGIN:STANDARD
TZOFFSETFROM:+0530
TZOFFSETTO:+0530
TZNAME:IST
DTSTART:20250101T000000
END:STANDARD
END:VTIMEZONE
BEGIN:VEVENT
DTSTART;TZID=Asia/Kolkata:20250816T000000
DTEND;TZID=Asia/Kolkata:20250816T235959
DTSTAMP:20260425T172728
CREATED:20250906T040010Z
LAST-MODIFIED:20250906T040012Z
UID:10000074-1755302400-1755388799@sorasudung.in
SUMMARY:JANMASTHAMI
DESCRIPTION:
URL:https://sorasudung.in/event/janmasthami/
END:VEVENT
BEGIN:VEVENT
DTSTART;TZID=Asia/Kolkata:20250815T000000
DTEND;TZID=Asia/Kolkata:20250815T235959
DTSTAMP:20260425T172728
CREATED:20250906T035900Z
LAST-MODIFIED:20250906T035902Z
UID:10000073-1755216000-1755302399@sorasudung.in
SUMMARY:INDEPENDENCE DAY
DESCRIPTION:
URL:https://sorasudung.in/event/independence-day/
END:VEVENT
BEGIN:VEVENT
DTSTART;TZID=Asia/Kolkata:20250808T000000
DTEND;TZID=Asia/Kolkata:20250808T235959
DTSTAMP:20260425T172728
CREATED:20250906T035720Z
LAST-MODIFIED:20250906T035724Z
UID:10000072-1754611200-1754697599@sorasudung.in
SUMMARY:TENDONG LHO RUM FAAT
DESCRIPTION:
URL:https://sorasudung.in/event/tendong-lho-rum-faat/
END:VEVENT
BEGIN:VEVENT
DTSTART;TZID=Asia/Kolkata:20250804T000000
DTEND;TZID=Asia/Kolkata:20250804T235959
DTSTAMP:20260425T172728
CREATED:20250906T035609Z
LAST-MODIFIED:20250906T035611Z
UID:10000071-1754265600-1754351999@sorasudung.in
SUMMARY:GURU RINPOCHE’S THRUNKAR TSHECHU
DESCRIPTION:
URL:https://sorasudung.in/event/guru-rinpoches-thrunkar-tshechu/
END:VEVENT
BEGIN:VEVENT
DTSTART;TZID=Asia/Kolkata:20250728T000000
DTEND;TZID=Asia/Kolkata:20250728T235959
DTSTAMP:20260425T172728
CREATED:20250906T035316Z
LAST-MODIFIED:20250906T035358Z
UID:10000070-1753660800-1753747199@sorasudung.in
SUMMARY:DRUKPA TSHE-ZI
DESCRIPTION:
URL:https://sorasudung.in/event/drukpa-tshe-zi/
END:VEVENT
BEGIN:VEVENT
DTSTART;TZID=Asia/Kolkata:20250726T000000
DTEND;TZID=Asia/Kolkata:20250726T235959
DTSTAMP:20260425T172728
CREATED:20250906T035123Z
LAST-MODIFIED:20250906T035142Z
UID:10000069-1753488000-1753574399@sorasudung.in
SUMMARY:Inter-House Debate Competition (Nepali)
DESCRIPTION:
URL:https://sorasudung.in/event/inter-house-debate-competition-nepali/
END:VEVENT
BEGIN:VEVENT
DTSTART;TZID=Asia/Kolkata:20250719T000000
DTEND;TZID=Asia/Kolkata:20250719T235959
DTSTAMP:20260425T172728
CREATED:20250906T034918Z
LAST-MODIFIED:20250906T034945Z
UID:10000068-1752883200-1752969599@sorasudung.in
SUMMARY:Handwriting Competition
DESCRIPTION:
URL:https://sorasudung.in/event/handwriting-competition/
END:VEVENT
BEGIN:VEVENT
DTSTART;TZID=Asia/Kolkata:20250715T000000
DTEND;TZID=Asia/Kolkata:20250715T235959
DTSTAMP:20260425T172728
CREATED:20250906T034756Z
LAST-MODIFIED:20250906T034759Z
UID:10000067-1752537600-1752623999@sorasudung.in
SUMMARY:School Reopens  AFTER SUMMER BREAK
DESCRIPTION:
URL:https://sorasudung.in/event/school-reopens-after-summer-break/
END:VEVENT
BEGIN:VEVENT
DTSTART;TZID=Asia/Kolkata:20250705T080000
DTEND;TZID=Asia/Kolkata:20250714T170000
DTSTAMP:20260425T172728
CREATED:20250906T034605Z
LAST-MODIFIED:20250906T034606Z
UID:10000066-1751702400-1752512400@sorasudung.in
SUMMARY:Summer Vacation
DESCRIPTION:
URL:https://sorasudung.in/event/summer-vacation/
END:VEVENT
BEGIN:VEVENT
DTSTART;TZID=Asia/Kolkata:20250704T000000
DTEND;TZID=Asia/Kolkata:20250704T235959
DTSTAMP:20260425T172728
CREATED:20250906T034401Z
LAST-MODIFIED:20250906T034403Z
UID:10000065-1751587200-1751673599@sorasudung.in
SUMMARY:Half- Yearly Result Day/ PTA Meeting
DESCRIPTION:
URL:https://sorasudung.in/event/half-yearly-result-day-pta-meeting/
END:VEVENT
BEGIN:VEVENT
DTSTART;TZID=Asia/Kolkata:20250621T000000
DTEND;TZID=Asia/Kolkata:20250630T235959
DTSTAMP:20260425T172728
CREATED:20250906T034246Z
LAST-MODIFIED:20250906T034248Z
UID:10000064-1750464000-1751327999@sorasudung.in
SUMMARY:SA-01/HALF-YEARLY EXAM
DESCRIPTION:
URL:https://sorasudung.in/event/sa-01-half-yearly-exam/
END:VEVENT
BEGIN:VEVENT
DTSTART;TZID=Asia/Kolkata:20250615T000000
DTEND;TZID=Asia/Kolkata:20250615T235959
DTSTAMP:20260425T172728
CREATED:20250906T034043Z
LAST-MODIFIED:20250906T034045Z
UID:10000063-1749945600-1750031999@sorasudung.in
SUMMARY:SCHOOL FOUNDER’S DAY
DESCRIPTION:
URL:https://sorasudung.in/event/school-founders-day/
END:VEVENT
BEGIN:VEVENT
DTSTART;TZID=Asia/Kolkata:20250611T000000
DTEND;TZID=Asia/Kolkata:20250611T235959
DTSTAMP:20260425T172728
CREATED:20250906T033838Z
LAST-MODIFIED:20250906T033840Z
UID:10000062-1749600000-1749686399@sorasudung.in
SUMMARY:SAGA DAWA
DESCRIPTION:
URL:https://sorasudung.in/event/saga-dawa/
END:VEVENT
BEGIN:VEVENT
DTSTART;TZID=Asia/Kolkata:20250607T000000
DTEND;TZID=Asia/Kolkata:20250607T235959
DTSTAMP:20260425T172728
CREATED:20250906T033723Z
LAST-MODIFIED:20250906T033725Z
UID:10000061-1749254400-1749340799@sorasudung.in
SUMMARY:Sit & Draw Competition Classes I-VIII
DESCRIPTION:
URL:https://sorasudung.in/event/sit-draw-competition-classes-i-viii/
END:VEVENT
BEGIN:VEVENT
DTSTART;TZID=Asia/Kolkata:20250531T000000
DTEND;TZID=Asia/Kolkata:20250531T235959
DTSTAMP:20260425T172728
CREATED:20250906T033612Z
LAST-MODIFIED:20250906T033614Z
UID:10000060-1748649600-1748735999@sorasudung.in
SUMMARY:Class Room Decoration
DESCRIPTION:
URL:https://sorasudung.in/event/class-room-decoration/
END:VEVENT
BEGIN:VEVENT
DTSTART;TZID=Asia/Kolkata:20250524T000000
DTEND;TZID=Asia/Kolkata:20250524T235959
DTSTAMP:20260425T172728
CREATED:20250906T033511Z
LAST-MODIFIED:20250906T033513Z
UID:10000059-1748044800-1748131199@sorasudung.in
SUMMARY:Inter Class Rhymes/ Song Competition- Group/Solo
DESCRIPTION:
URL:https://sorasudung.in/event/inter-class-rhymes-song-competition-group-solo/
END:VEVENT
BEGIN:VEVENT
DTSTART;TZID=Asia/Kolkata:20250517T000000
DTEND;TZID=Asia/Kolkata:20250517T235959
DTSTAMP:20260425T172728
CREATED:20250906T033347Z
LAST-MODIFIED:20250906T033349Z
UID:10000058-1747440000-1747526399@sorasudung.in
SUMMARY:Extempore/Speech Competition
DESCRIPTION:
URL:https://sorasudung.in/event/extempore-speech-competition/
END:VEVENT
BEGIN:VEVENT
DTSTART;TZID=Asia/Kolkata:20250516T000000
DTEND;TZID=Asia/Kolkata:20250516T235959
DTSTAMP:20260425T172728
CREATED:20250906T033050Z
LAST-MODIFIED:20250906T033141Z
UID:10000057-1747353600-1747439999@sorasudung.in
SUMMARY:STATE DAY
DESCRIPTION:
URL:https://sorasudung.in/event/state-day/
END:VEVENT
BEGIN:VEVENT
DTSTART;TZID=Asia/Kolkata:20250512T000000
DTEND;TZID=Asia/Kolkata:20250512T235959
DTSTAMP:20260425T172728
CREATED:20250906T032926Z
LAST-MODIFIED:20250906T032928Z
UID:10000056-1747008000-1747094399@sorasudung.in
SUMMARY:SHYADAR PIDAR
DESCRIPTION:
URL:https://sorasudung.in/event/shyadar-pidar/
END:VEVENT
BEGIN:VEVENT
DTSTART;TZID=Asia/Kolkata:20250510T000000
DTEND;TZID=Asia/Kolkata:20250510T235959
DTSTAMP:20260425T172728
CREATED:20250906T032818Z
LAST-MODIFIED:20250906T032820Z
UID:10000055-1746835200-1746921599@sorasudung.in
SUMMARY:Paragraph & Essay Writing Competition (English)
DESCRIPTION:
URL:https://sorasudung.in/event/paragraph-essay-writing-competition-english/
END:VEVENT
BEGIN:VEVENT
DTSTART;TZID=Asia/Kolkata:20250502T000000
DTEND;TZID=Asia/Kolkata:20250502T235959
DTSTAMP:20260425T172728
CREATED:20250906T032514Z
LAST-MODIFIED:20250906T032516Z
UID:10000053-1746144000-1746230399@sorasudung.in
SUMMARY:FA-02/MONTHLY TEST-02
DESCRIPTION:
URL:https://sorasudung.in/event/fa-02-monthly-test-02/
END:VEVENT
BEGIN:VEVENT
DTSTART;TZID=Asia/Kolkata:20250501T000000
DTEND;TZID=Asia/Kolkata:20250509T235959
DTSTAMP:20260425T172728
CREATED:20250906T032711Z
LAST-MODIFIED:20250906T032712Z
UID:10000054-1746057600-1746835199@sorasudung.in
SUMMARY:FA-02/MONTHLY TEST-02
DESCRIPTION:
URL:https://sorasudung.in/event/fa-02-monthly-test-02-2/
END:VEVENT
BEGIN:VEVENT
DTSTART;TZID=Asia/Kolkata:20250426T000000
DTEND;TZID=Asia/Kolkata:20250426T235959
DTSTAMP:20260425T172728
CREATED:20250906T032329Z
LAST-MODIFIED:20250906T032331Z
UID:10000052-1745625600-1745711999@sorasudung.in
SUMMARY:Inter-House Debate Competition (English)
DESCRIPTION:
URL:https://sorasudung.in/event/inter-house-debate-competition-english/
END:VEVENT
BEGIN:VEVENT
DTSTART;TZID=Asia/Kolkata:20250419T000000
DTEND;TZID=Asia/Kolkata:20250419T235959
DTSTAMP:20260425T172728
CREATED:20250906T032225Z
LAST-MODIFIED:20250906T032227Z
UID:10000051-1745020800-1745107199@sorasudung.in
SUMMARY:Story Telling Competition-Class I-VIII
DESCRIPTION:
URL:https://sorasudung.in/event/story-telling-competition-class-i-viii/
END:VEVENT
BEGIN:VEVENT
DTSTART;TZID=Asia/Kolkata:20250418T000000
DTEND;TZID=Asia/Kolkata:20250418T235959
DTSTAMP:20260425T172728
CREATED:20250906T032128Z
LAST-MODIFIED:20250906T032130Z
UID:10000050-1744934400-1745020799@sorasudung.in
SUMMARY:GOOD FRIDAY
DESCRIPTION:
URL:https://sorasudung.in/event/good-friday/
END:VEVENT
BEGIN:VEVENT
DTSTART;TZID=Asia/Kolkata:20250414T000000
DTEND;TZID=Asia/Kolkata:20250414T235959
DTSTAMP:20260425T172728
CREATED:20250906T032040Z
LAST-MODIFIED:20250906T032041Z
UID:10000049-1744588800-1744675199@sorasudung.in
SUMMARY:DR\, B.R. AMBEDHKAR JAYANTI
DESCRIPTION:
URL:https://sorasudung.in/event/dr-b-r-ambedhkar-jayanti/
END:VEVENT
BEGIN:VEVENT
DTSTART;TZID=Asia/Kolkata:20250406T000000
DTEND;TZID=Asia/Kolkata:20250406T235959
DTSTAMP:20260425T172728
CREATED:20250906T031945Z
LAST-MODIFIED:20250906T031946Z
UID:10000048-1743897600-1743983999@sorasudung.in
SUMMARY:RAMNAWAMI (CHAITE DASAIN)
DESCRIPTION:
URL:https://sorasudung.in/event/ramnawami-chaite-dasain/
END:VEVENT
BEGIN:VEVENT
DTSTART;TZID=Asia/Kolkata:20250405T000000
DTEND;TZID=Asia/Kolkata:20250405T235959
DTSTAMP:20260425T172728
CREATED:20250906T031852Z
LAST-MODIFIED:20250906T031854Z
UID:10000047-1743811200-1743897599@sorasudung.in
SUMMARY:Spell-Bee Contest
DESCRIPTION:
URL:https://sorasudung.in/event/spell-bee-contest/
END:VEVENT
BEGIN:VEVENT
DTSTART;TZID=Asia/Kolkata:20250331T000000
DTEND;TZID=Asia/Kolkata:20250331T235959
DTSTAMP:20260425T172728
CREATED:20250906T031756Z
LAST-MODIFIED:20250906T031758Z
UID:10000046-1743379200-1743465599@sorasudung.in
SUMMARY:ID UL FITR
DESCRIPTION:
URL:https://sorasudung.in/event/id-ul-fitr/
END:VEVENT
BEGIN:VEVENT
DTSTART;TZID=Asia/Kolkata:20250329T000000
DTEND;TZID=Asia/Kolkata:20250329T235959
DTSTAMP:20260425T172728
CREATED:20250906T031704Z
LAST-MODIFIED:20250906T031705Z
UID:10000045-1743206400-1743292799@sorasudung.in
SUMMARY:Elocution Competition Classes I-VIII
DESCRIPTION:
URL:https://sorasudung.in/event/elocution-competition-classes-i-viii/
END:VEVENT
END:VCALENDAR