BEGIN:VCALENDAR
VERSION:2.0
PRODID:-//SORA SCHOOL - ECPv6.15.1.1//NONSGML v1.0//EN
CALSCALE:GREGORIAN
METHOD:PUBLISH
X-WR-CALNAME:SORA SCHOOL
X-ORIGINAL-URL:https://sorasudung.in
X-WR-CALDESC:Events for SORA SCHOOL
REFRESH-INTERVAL;VALUE=DURATION:PT1H
X-Robots-Tag:noindex
X-PUBLISHED-TTL:PT1H
BEGIN:VTIMEZONE
TZID:Asia/Kolkata
BEGIN:STANDARD
TZOFFSETFROM:+0530
TZOFFSETTO:+0530
TZNAME:IST
DTSTART:20250101T000000
END:STANDARD
END:VTIMEZONE
BEGIN:VEVENT
DTSTART;TZID=Asia/Kolkata:20250210T000000
DTEND;TZID=Asia/Kolkata:20250210T235959
DTSTAMP:20260425T170900
CREATED:20250906T030234Z
LAST-MODIFIED:20250906T030236Z
UID:10000035-1739145600-1739231999@sorasudung.in
SUMMARY:Books Distribution
DESCRIPTION:
URL:https://sorasudung.in/event/books-distribution/
END:VEVENT
BEGIN:VEVENT
DTSTART;TZID=Asia/Kolkata:20250205T000000
DTEND;TZID=Asia/Kolkata:20250205T235959
DTSTAMP:20260425T170900
CREATED:20250906T030127Z
LAST-MODIFIED:20250906T030129Z
UID:10000034-1738713600-1738799999@sorasudung.in
SUMMARY:Admission Test Class I - VIII
DESCRIPTION:
URL:https://sorasudung.in/event/admission-test-class-i-viii/
END:VEVENT
BEGIN:VEVENT
DTSTART;TZID=Asia/Kolkata:20250203T000000
DTEND;TZID=Asia/Kolkata:20250203T235959
DTSTAMP:20260425T170900
CREATED:20250906T025914Z
LAST-MODIFIED:20250906T025916Z
UID:10000033-1738540800-1738627199@sorasudung.in
SUMMARY:Opening of School Office
DESCRIPTION:
URL:https://sorasudung.in/event/opening-of-school-office/
END:VEVENT
BEGIN:VEVENT
DTSTART;TZID=Asia/Kolkata:20250130T000000
DTEND;TZID=Asia/Kolkata:20250130T235959
DTSTAMP:20260425T170900
CREATED:20250906T025416Z
LAST-MODIFIED:20250906T025419Z
UID:10000032-1738195200-1738281599@sorasudung.in
SUMMARY:SONAM LOCHHAR
DESCRIPTION:
URL:https://sorasudung.in/event/sonam-lochhar/
END:VEVENT
BEGIN:VEVENT
DTSTART;TZID=Asia/Kolkata:20250126T000000
DTEND;TZID=Asia/Kolkata:20250126T235959
DTSTAMP:20260425T170900
CREATED:20250906T025305Z
LAST-MODIFIED:20250906T025310Z
UID:10000031-1737849600-1737935999@sorasudung.in
SUMMARY:REPUBLIC DAY
DESCRIPTION:
URL:https://sorasudung.in/event/republic-day/
END:VEVENT
BEGIN:VEVENT
DTSTART;TZID=Asia/Kolkata:20250114T000000
DTEND;TZID=Asia/Kolkata:20250114T235959
DTSTAMP:20260425T170900
CREATED:20250906T025153Z
LAST-MODIFIED:20250906T025157Z
UID:10000030-1736812800-1736899199@sorasudung.in
SUMMARY:MAGHE SANKRANTI
DESCRIPTION:
URL:https://sorasudung.in/event/maghe-sankranti/
END:VEVENT
BEGIN:VEVENT
DTSTART;TZID=Asia/Kolkata:20250102T000000
DTEND;TZID=Asia/Kolkata:20250106T235959
DTSTAMP:20260425T170900
CREATED:20250906T025040Z
LAST-MODIFIED:20250906T025042Z
UID:10000029-1735776000-1736207999@sorasudung.in
SUMMARY:LOSOONG/NAMSOONG
DESCRIPTION:
URL:https://sorasudung.in/event/losoong-namsoong-2/
END:VEVENT
BEGIN:VEVENT
DTSTART;TZID=Asia/Kolkata:20250101T000000
DTEND;TZID=Asia/Kolkata:20250101T235959
DTSTAMP:20260425T170900
CREATED:20250906T024914Z
LAST-MODIFIED:20250906T024919Z
UID:10000028-1735689600-1735775999@sorasudung.in
SUMMARY:NEW YEAR’S DAY/LOSOONG/NAMSOONG
DESCRIPTION:
URL:https://sorasudung.in/event/new-years-day-losoong-namsoong/
END:VEVENT
END:VCALENDAR