BEGIN:VCALENDAR
VERSION:2.0
PRODID:-//SORA SCHOOL - ECPv6.15.1.1//NONSGML v1.0//EN
CALSCALE:GREGORIAN
METHOD:PUBLISH
X-ORIGINAL-URL:https://sorasudung.in
X-WR-CALDESC:Events for SORA SCHOOL
REFRESH-INTERVAL;VALUE=DURATION:PT1H
X-Robots-Tag:noindex
X-PUBLISHED-TTL:PT1H
BEGIN:VTIMEZONE
TZID:Asia/Kolkata
BEGIN:STANDARD
TZOFFSETFROM:+0530
TZOFFSETTO:+0530
TZNAME:IST
DTSTART:20260101T000000
END:STANDARD
END:VTIMEZONE
BEGIN:VEVENT
DTSTART;TZID=Asia/Kolkata:20260501T000000
DTEND;TZID=Asia/Kolkata:20260501T235959
DTSTAMP:20260424T225641
CREATED:20260108T051159Z
LAST-MODIFIED:20260108T051205Z
UID:10000095-1777593600-1777679999@sorasudung.in
SUMMARY:SHYADAR PIDAR
DESCRIPTION:
URL:https://sorasudung.in/event/shyadar-pidar-2/
END:VEVENT
BEGIN:VEVENT
DTSTART;TZID=Asia/Kolkata:20260502T000000
DTEND;TZID=Asia/Kolkata:20260502T235959
DTSTAMP:20260424T225641
CREATED:20260112T032334Z
LAST-MODIFIED:20260112T032335Z
UID:10000140-1777680000-1777766399@sorasudung.in
SUMMARY:Paragraph & Essay Writing Competition Class I-VIII
DESCRIPTION:
URL:https://sorasudung.in/event/paragraph-essay-writing-competition-class-i-viii/
END:VEVENT
BEGIN:VEVENT
DTSTART;TZID=Asia/Kolkata:20260504T000000
DTEND;TZID=Asia/Kolkata:20260512T235959
DTSTAMP:20260424T225641
CREATED:20260112T032818Z
LAST-MODIFIED:20260112T032819Z
UID:10000141-1777852800-1778630399@sorasudung.in
SUMMARY:MONTHLY TEST/FA-02
DESCRIPTION:
URL:https://sorasudung.in/event/monthly-test-fa-02/
END:VEVENT
BEGIN:VEVENT
DTSTART;TZID=Asia/Kolkata:20260516T000000
DTEND;TZID=Asia/Kolkata:20260516T235959
DTSTAMP:20260424T225641
CREATED:20260108T051430Z
LAST-MODIFIED:20260108T051750Z
UID:10000096-1778889600-1778975999@sorasudung.in
SUMMARY:STATE DAY
DESCRIPTION:
URL:https://sorasudung.in/event/state-day-2/
END:VEVENT
BEGIN:VEVENT
DTSTART;TZID=Asia/Kolkata:20260523T000000
DTEND;TZID=Asia/Kolkata:20260523T235959
DTSTAMP:20260424T225641
CREATED:20260112T033030Z
LAST-MODIFIED:20260112T033031Z
UID:10000142-1779494400-1779580799@sorasudung.in
SUMMARY:Extempore/ Speech Competition class I-VIII
DESCRIPTION:
URL:https://sorasudung.in/event/extempore-speech-competition-class-i-viii/
END:VEVENT
BEGIN:VEVENT
DTSTART;TZID=Asia/Kolkata:20260530T000000
DTEND;TZID=Asia/Kolkata:20260530T235959
DTSTAMP:20260424T225641
CREATED:20260112T033254Z
LAST-MODIFIED:20260112T033255Z
UID:10000143-1780099200-1780185599@sorasudung.in
SUMMARY:Inter-Class Rhymes/ Singing Competition- Group/ Solo
DESCRIPTION:
URL:https://sorasudung.in/event/inter-class-rhymes-singing-competition-group-solo/
END:VEVENT
BEGIN:VEVENT
DTSTART;TZID=Asia/Kolkata:20260531T000000
DTEND;TZID=Asia/Kolkata:20260531T235959
DTSTAMP:20260424T225641
CREATED:20260108T052043Z
LAST-MODIFIED:20260108T052159Z
UID:10000097-1780185600-1780271999@sorasudung.in
SUMMARY:SAGA DAWA
DESCRIPTION:
URL:https://sorasudung.in/event/saga-dawa-2/
END:VEVENT
END:VCALENDAR